BEGIN:VCALENDAR
VERSION:2.0
PRODID:-//PEOPLES REPUBLIC OF STOKES CROFT - ECPv6.15.20//NONSGML v1.0//EN
CALSCALE:GREGORIAN
METHOD:PUBLISH
X-ORIGINAL-URL:https://prsc.org.uk
X-WR-CALDESC:Events for PEOPLES REPUBLIC OF STOKES CROFT
REFRESH-INTERVAL;VALUE=DURATION:PT1H
X-Robots-Tag:noindex
X-PUBLISHED-TTL:PT1H
BEGIN:VTIMEZONE
TZID:Europe/London
BEGIN:DAYLIGHT
TZOFFSETFROM:+0000
TZOFFSETTO:+0100
TZNAME:BST
DTSTART:20170326T010000
END:DAYLIGHT
BEGIN:STANDARD
TZOFFSETFROM:+0100
TZOFFSETTO:+0000
TZNAME:GMT
DTSTART:20171029T010000
END:STANDARD
BEGIN:DAYLIGHT
TZOFFSETFROM:+0000
TZOFFSETTO:+0100
TZNAME:BST
DTSTART:20180325T010000
END:DAYLIGHT
BEGIN:STANDARD
TZOFFSETFROM:+0100
TZOFFSETTO:+0000
TZNAME:GMT
DTSTART:20181028T010000
END:STANDARD
BEGIN:DAYLIGHT
TZOFFSETFROM:+0000
TZOFFSETTO:+0100
TZNAME:BST
DTSTART:20190331T010000
END:DAYLIGHT
BEGIN:STANDARD
TZOFFSETFROM:+0100
TZOFFSETTO:+0000
TZNAME:GMT
DTSTART:20191027T010000
END:STANDARD
END:VTIMEZONE
BEGIN:VEVENT
DTSTART;TZID=Europe/London:20181030T183000
DTEND;TZID=Europe/London:20181030T193000
DTSTAMP:20260422T194221
CREATED:20181008T141002Z
LAST-MODIFIED:20181009T134137Z
UID:10013868-1540924200-1540927800@prsc.org.uk
SUMMARY:Guided Meditation
DESCRIPTION:Every Tuesday at PRSCthroughout October and November \nThe 1-hour class includes 5 minutes of briefing and will be fully guided meditation. This will include pranayama (breathing techniques)\, music\, dance\, silent sitting\, gibberish\, catharsis\, mindfulness etc. \nAttendees are requested to wear loose comfortable clothing and come a few minutes early if it is your first time. Cost is £6 pounds and It’s a drop-in class\, newcomers are highly recommended. Please bring a Yoga mat to sit.on. \nAbout the Teacher: \nChit Dubey is an author of a book ’21 Doors to happiness: life through travel experiences and meditation\,’ speaker and practising meditation for the past 20 years and has been to many Ashrams (Meditation Schools) in India\, learning and practising many different techniques based on Eastern philosophies. Chit Dubey is teaching meditation for the past 5 years and have given classes in Tanzania and now teaching in the UK.
URL:https://prsc.org.uk/event/guided-meditation/2018-10-30/
LOCATION:SPACE at PRSC\, 17-25 Jamaica St\, Bristol\, BS2 8JW\, United Kingdom
CATEGORIES:Meditation,Workshop
ATTACH;FMTTYPE=image/jpeg:https://prsc.org.uk/wp-content/uploads/2018/10/meditation-1.jpg
ORGANIZER;CN="Chit Dubey":MAILTO:chittranjan.dubey@gmail.com
GEO:51.462367098231;-2.5910394455531
X-APPLE-STRUCTURED-LOCATION;VALUE=URI;X-ADDRESS=SPACE at PRSC 17-25 Jamaica St Bristol BS2 8JW United Kingdom;X-APPLE-RADIUS=500;X-TITLE=17-25 Jamaica St:geo:-2.5910394455531,51.462367098231
END:VEVENT
END:VCALENDAR