BEGIN:VCALENDAR
VERSION:2.0
PRODID:-//PEOPLES REPUBLIC OF STOKES CROFT - ECPv6.15.20//NONSGML v1.0//EN
CALSCALE:GREGORIAN
METHOD:PUBLISH
X-WR-CALNAME:PEOPLES REPUBLIC OF STOKES CROFT
X-ORIGINAL-URL:https://prsc.org.uk
X-WR-CALDESC:Events for PEOPLES REPUBLIC OF STOKES CROFT
REFRESH-INTERVAL;VALUE=DURATION:PT1H
X-Robots-Tag:noindex
X-PUBLISHED-TTL:PT1H
BEGIN:VTIMEZONE
TZID:Europe/London
BEGIN:DAYLIGHT
TZOFFSETFROM:+0000
TZOFFSETTO:+0100
TZNAME:BST
DTSTART:20210328T010000
END:DAYLIGHT
BEGIN:STANDARD
TZOFFSETFROM:+0100
TZOFFSETTO:+0000
TZNAME:GMT
DTSTART:20211031T010000
END:STANDARD
BEGIN:DAYLIGHT
TZOFFSETFROM:+0000
TZOFFSETTO:+0100
TZNAME:BST
DTSTART:20220327T010000
END:DAYLIGHT
BEGIN:STANDARD
TZOFFSETFROM:+0100
TZOFFSETTO:+0000
TZNAME:GMT
DTSTART:20221030T010000
END:STANDARD
BEGIN:DAYLIGHT
TZOFFSETFROM:+0000
TZOFFSETTO:+0100
TZNAME:BST
DTSTART:20230326T010000
END:DAYLIGHT
BEGIN:STANDARD
TZOFFSETFROM:+0100
TZOFFSETTO:+0000
TZNAME:GMT
DTSTART:20231029T010000
END:STANDARD
END:VTIMEZONE
BEGIN:VEVENT
DTSTART;TZID=Europe/London:20220330T190000
DTEND;TZID=Europe/London:20220330T223000
DTSTAMP:20260421T155437
CREATED:20220131T165621Z
LAST-MODIFIED:20220315T191526Z
UID:10014774-1648666800-1648679400@prsc.org.uk
SUMMARY:MUSIC TO COME presents Al Karpenter\, Sunik Kim & Dominic Coles
DESCRIPTION:TicketsAn early evening of marginal\, experimental\, electronic music. \nAl Karpenter (Barakaldo) is an outsider among the underdogs and an ingenious dilettante who likes to challenge of course of history. His live performances are as rare as they are unpredictable. Listening to his album “Musik from a Private Hell” (Bruit Direct Disques)\, we are immediately caught by his disembodied singing with positive nihilism. It’s the end of the world but the best is yet to come. \nHis music has been also been released by ever/never (NYC)\, Munster (Madrid) and Crystal Mine (Burgos) and has been described as lonely post-industrial weirdness\, deconstructed Fushitsusha or as the perfect soundtrack for our grim times. \nFor this unique stage appearance\, the duo will be accompanied by the improvisers Marta Sainz (bass and vocals)\,Enrique Zaccagnini (electronics) and Mattin of the groups Billy Bao and Regler (computer). File under non-musique\, No more heroes anymore. \nSunik Kim is a musician\, writer and filmmaker currently based in California. Their last album\, Zero Chime\, was released in 2019 on First Terrace Records and featured Kim playing alto sax alongside a multitude of traditional Korean instruments. They are also a regular contributor to experimental music publication Tone Glow\, and have had writing featured in Pitchfork\, Bandcamp Daily\, Soap Ear\, Bellona Magazine and elsewhere. \nDominic Coles is a composer & improviser based in Queens\, NYC. His work investigates the interactions of place\, personhood\, and power as they are articulated in sound\, attempting to complicate and intervene in these categories through specific acts of technologically mediated listening.
URL:https://prsc.org.uk/event/music-to-come/
LOCATION:SPACE at PRSC\, 17-25 Jamaica St\, Bristol\, BS2 8JW\, United Kingdom
CATEGORIES:Music
ATTACH;FMTTYPE=image/jpeg:https://prsc.org.uk/wp-content/uploads/2022/01/Music-to-Come.jpg
GEO:51.462367098231;-2.5910394455531
X-APPLE-STRUCTURED-LOCATION;VALUE=URI;X-ADDRESS=SPACE at PRSC 17-25 Jamaica St Bristol BS2 8JW United Kingdom;X-APPLE-RADIUS=500;X-TITLE=17-25 Jamaica St:geo:-2.5910394455531,51.462367098231
END:VEVENT
END:VCALENDAR